BEGIN:VCALENDAR
VERSION:2.0
PRODID:-//ChamberMaster//Event Calendar 2.0//EN
METHOD:PUBLISH
X-PUBLISHED-TTL:P3D
REFRESH-INTERVAL:P3D
CALSCALE:GREGORIAN
BEGIN:VEVENT
DTSTART:20090122T200000Z
DTEND:20090122T060000Z
X-MICROSOFT-CDO-ALLDAYEVENT:FALSE
SUMMARY:Bank of America Ribbon Cutting Ceremony
DESCRIPTION:
X-ALT-DESC;FMTTYPE=text/html:
LOCATION:Bank of America
UID:e.2096.619
SEQUENCE:3
DTSTAMP:20260424T091746Z
URL:https://network.garlandchamber.com/events/details/bank-of-america-ribbon-cutting-ceremony-01-22-2009-619
END:VEVENT

END:VCALENDAR
