BEGIN:VCALENDAR
VERSION:2.0
PRODID:-//ChamberMaster//Event Calendar 2.0//EN
METHOD:PUBLISH
X-PUBLISHED-TTL:P3D
REFRESH-INTERVAL:P3D
CALSCALE:GREGORIAN
BEGIN:VEVENT
DTSTART:20081011T180000Z
DTEND:20081011T050000Z
X-MICROSOFT-CDO-ALLDAYEVENT:FALSE
SUMMARY:Bath Junkie Re-Grand Opening Ceremony
DESCRIPTION:
X-ALT-DESC;FMTTYPE=text/html:
LOCATION:Bath Junkie
UID:e.2096.588
SEQUENCE:3
DTSTAMP:20260424T132229Z
URL:https://network.garlandchamber.com/events/details/bath-junkie-re-grand-opening-ceremony-10-11-2008-588
END:VEVENT

END:VCALENDAR
