BEGIN:VCALENDAR
VERSION:2.0
PRODID:-//ChamberMaster//Event Calendar 2.0//EN
METHOD:PUBLISH
X-PUBLISHED-TTL:P3D
REFRESH-INTERVAL:P3D
CALSCALE:GREGORIAN
BEGIN:VEVENT
DTSTART:20090516T150000Z
DTEND:20090516T230000Z
X-MICROSOFT-CDO-ALLDAYEVENT:FALSE
SUMMARY:Battle of the Badges Blood Drive (Garland Fire & Police)
DESCRIPTION:
X-ALT-DESC;FMTTYPE=text/html:
LOCATION:Garland Police Dept. & Firewheel Town Center
UID:e.2096.666
SEQUENCE:3
DTSTAMP:20260424T052405Z
URL:https://network.garlandchamber.com/events/details/battle-of-the-badges-blood-drive-garland-fire-police-05-16-2009-666
END:VEVENT

END:VCALENDAR
