BEGIN:VCALENDAR
VERSION:2.0
PRODID:-//ChamberMaster//Event Calendar 2.0//EN
METHOD:PUBLISH
X-PUBLISHED-TTL:P3D
REFRESH-INTERVAL:P3D
CALSCALE:GREGORIAN
BEGIN:VEVENT
DTSTART:20130126T133000Z
DTEND:20130126T180000Z
X-MICROSOFT-CDO-ALLDAYEVENT:FALSE
SUMMARY:Baylor For Women For Life
DESCRIPTION:Join us for a Day Focused on You Get a healthy start to 2013 by attending For Women For Life. Baylor Garland would like to personally invite you to join us for this FREE women's health and wellness event Saturday\, January 26.In addition to health screenings and presentations\, you'll enjoy a healthy continental breakfast\, chair massages and more. RSVP and learn more by calling 1.800.4BAYLOR or visit us online.
X-ALT-DESC;FMTTYPE=text/html:<P>Join us for a Day Focused on You </P><P>Get a healthy start to 2013 by attending For Women For Life. Baylor Garland would like to personally invite you to join us for this FREE women's health and wellness event Saturday\, January 26.</P><P>In addition to health screenings and presentations\, you'll enjoy a healthy continental breakfast\, chair massages and more. </P><P>RSVP and learn more by calling 1.800.4BAYLOR or <A dataFld=0:0 href="http://content.baylorhealth.com/?YY1SUAQq5YPQAK6kWrgqIlSArpzLETS7Y&amp\;http://www.baylorhealth.com/SpecialtiesServices/WomensHealth/Pages/FWFL.aspx?cmpid=FWFL_Garland_2013">visit us online</A>.</P>
LOCATION:The Atrium at the Granville Arts Center
UID:e.2096.1131
SEQUENCE:3
DTSTAMP:20260421T132144Z
URL:https://network.garlandchamber.com/events/details/baylor-for-women-for-life-01-26-2013-1131
END:VEVENT

END:VCALENDAR
