BEGIN:VCALENDAR
VERSION:2.0
PRODID:-//ChamberMaster//Event Calendar 2.0//EN
METHOD:PUBLISH
X-PUBLISHED-TTL:P3D
REFRESH-INTERVAL:P3D
CALSCALE:GREGORIAN
BEGIN:VEVENT
DTSTART:20120128T133000Z
DTEND:20120128T180000Z
X-MICROSOFT-CDO-ALLDAYEVENT:FALSE
SUMMARY:Baylor For Women For Life
DESCRIPTION:Take care of your health\, inside and out\, at Baylor Medical Center at Garland's annual women's health event\, For Women For Life. Saturday\, January 28\, 2012 - 7:30 A.M. to Noon. There is no charge for admission\, so get your girlfriends together and register today! RSVP by calling 1.800.4BAYLOR Go online to learn more & watch the event video at www.BaylorHealth.com/FWFL
X-ALT-DESC;FMTTYPE=text/html:<DIV style="FONT-FAMILY: Arial" align=center>Take care of your health\, inside and out\, at Baylor Medical Center at Garland's annual women's health event\, <SPAN style="FONT-FAMILY: 'Calibri'\,'sans-serif'\; COLOR: #ff0066\; FONT-SIZE: 12pt\; mso-fareast-font-family: Calibri\; mso-fareast-theme-font: minor-latin\; mso-ansi-language: EN-US\; mso-fareast-language: EN-US\; mso-bidi-language: AR-SA"><STRONG><EM>For Women For Life</EM></STRONG></SPAN><SPAN style="FONT-FAMILY: 'Calibri'\,'sans-serif'\; COLOR: #ff0066\; FONT-SIZE: 12pt\; mso-fareast-font-family: Calibri\; mso-fareast-theme-font: minor-latin\; mso-ansi-language: EN-US\; mso-fareast-language: EN-US\; mso-bidi-language: AR-SA">.</SPAN></DIV><DIV style="FONT-FAMILY: Arial"><SPAN style="FONT-FAMILY: 'Calibri'\,'sans-serif'\; COLOR: #ff0066\; FONT-SIZE: 12pt\; mso-fareast-font-family: Calibri\; mso-fareast-theme-font: minor-latin\; mso-ansi-language: EN-US\; mso-fareast-language: EN-US\; mso-bidi-language: AR-SA"></SPAN>&nbsp\;</DIV><SPAN style="FONT-FAMILY: 'Calibri'\,'sans-serif'\; COLOR: #ff0066\; FONT-SIZE: 12pt\; mso-fareast-font-family: Calibri\; mso-fareast-theme-font: minor-latin\; mso-ansi-language: EN-US\; mso-fareast-language: EN-US\; mso-bidi-language: AR-SA"><P style="TEXT-ALIGN: center\; MARGIN: 0in 0in 0pt\; FONT-FAMILY: Arial" class=MsoNormal align=center><B><SPAN style="FONT-SIZE: 12pt"><FONT color=#9f9f9f>Saturday\, January 28\, 2012&nbsp\;- 7:30 A.M. to Noon.</FONT></SPAN></B></P><P style="TEXT-ALIGN: center\; MARGIN: 0in 0in 0pt\; FONT-FAMILY: Arial" class=MsoNormal align=center><B><SPAN style="FONT-SIZE: 12pt"><FONT color=#9f9f9f></FONT></SPAN></B>&nbsp\;</P><P style="TEXT-ALIGN: center\; MARGIN: 0in 0in 0pt\; FONT-FAMILY: Arial" class=MsoNormal align=center><SPAN style="FONT-SIZE: 12pt"><FONT color=#9f9f9f>There is no charge for admission\, so get your girlfriends together and register today!</FONT></SPAN></P><P style="TEXT-ALIGN: center\; MARGIN: 0in 0in 0pt\; FONT-FAMILY: Arial" class=MsoNormal align=center><SPAN style="FONT-SIZE: 12pt"><FONT color=#9f9f9f></FONT></SPAN>&nbsp\;</P><P style="TEXT-ALIGN: center\; MARGIN: 0in 0in 0pt\; FONT-FAMILY: Arial" class=MsoNormal align=center><B><SPAN style="FONT-SIZE: 14pt"><FONT size=3><FONT color=#000000><FONT color=#9f9f9f>RSVP by calling</FONT> </FONT><SPAN style="COLOR: #0070c0">1.800.4BAYLOR</SPAN></FONT></SPAN></B></P><P style="TEXT-ALIGN: center\; MARGIN: 0in 0in 0pt\; FONT-FAMILY: Arial" class=MsoNormal align=center><B><SPAN style="FONT-SIZE: 14pt"></SPAN></B>&nbsp\;</P><DIV style="FONT-FAMILY: Arial" align=center><SPAN style="FONT-FAMILY: 'Calibri'\,'sans-serif'\; FONT-SIZE: 12pt\; mso-fareast-font-family: Calibri\; mso-fareast-theme-font: minor-latin\; mso-ansi-language: EN-US\; mso-fareast-language: EN-US\; mso-bidi-language: AR-SA"><SPAN style="FONT-SIZE: 12pt"><FONT color=#9f9f9f face=Arial>Go online to learn more &amp\; watch the&nbsp\;event video at&nbsp\;</FONT></SPAN><A href="http://www.BaylorHealth.com/FWFL"><FONT color=#0000ff face=Arial>www.BaylorHealth.com/FWFL</FONT></A></SPAN></SPAN><SPAN style="FONT-FAMILY: 'Calibri'\,'sans-serif'\; FONT-SIZE: 12pt\; mso-fareast-font-family: Calibri\; mso-fareast-theme-font: minor-latin\; mso-ansi-language: EN-US\; mso-fareast-language: EN-US\; mso-bidi-language: AR-SA"><FONT face=Arial>&nbsp\;</FONT></SPAN></DIV>
LOCATION:The Atrium at the Granville Arts Center
UID:e.2096.989
SEQUENCE:3
DTSTAMP:20260422T080123Z
URL:https://network.garlandchamber.com/events/details/baylor-for-women-for-life-01-28-2012-989
END:VEVENT

END:VCALENDAR
