BEGIN:VCALENDAR
VERSION:2.0
PRODID:-//ChamberMaster//Event Calendar 2.0//EN
METHOD:PUBLISH
X-PUBLISHED-TTL:P3D
REFRESH-INTERVAL:P3D
CALSCALE:GREGORIAN
BEGIN:VEVENT
DTSTART:20100608T153000Z
DTEND:20100608T050000Z
X-MICROSOFT-CDO-ALLDAYEVENT:FALSE
SUMMARY:BB&T Ribbon Cutting Ceremony
DESCRIPTION:
X-ALT-DESC;FMTTYPE=text/html:
LOCATION:BB&T Bank
UID:e.2096.799
SEQUENCE:3
DTSTAMP:20260423T093622Z
URL:https://network.garlandchamber.com/events/details/bb-t-ribbon-cutting-ceremony-06-08-2010-799
END:VEVENT

END:VCALENDAR
