BEGIN:VCALENDAR
VERSION:2.0
PRODID:-//ChamberMaster//Event Calendar 2.0//EN
METHOD:PUBLISH
X-PUBLISHED-TTL:P3D
REFRESH-INTERVAL:P3D
CALSCALE:GREGORIAN
BEGIN:VEVENT
DTSTART:20130116T000000Z
DTEND:20130116T010000Z
X-MICROSOFT-CDO-ALLDAYEVENT:FALSE
SUMMARY:Beat the Burn: Acid Reflux/GERD Seminar
DESCRIPTION:More than 50 million people suffer from Acid Reflux or Gastroesophageal Reflux Disease (GERD). Are you one of them? On Tuesday\, Jan. 15\, Baylor Garland will host a FREE seminar about the latest treatment options and how to find long-term relief from Acid Reflux and GERD. You need to attend this FREE SEMINAR if you:Experience heartburn or indigestion two or more times a weekFind that antacids only provide temporary reliefAre taking prescription medication to treat heartburn but are still experiencing symptoms Call 1.800.4BAYLOR and Register Today or Register Online!
X-ALT-DESC;FMTTYPE=text/html:<DIV style="FONT-FAMILY: Arial">More than 50 million people suffer from Acid Reflux or Gastroesophageal Reflux Disease (GERD). Are you one of them? On Tuesday\, Jan. 15\, Baylor Garland will host a FREE seminar about the latest treatment options and how to find long-term relief from Acid Reflux and GERD.</DIV><DIV style="FONT-FAMILY: Arial">&nbsp\;</DIV><DIV style="FONT-FAMILY: Arial">You need to attend this FREE SEMINAR if you:</DIV><DIV style="FONT-FAMILY: Arial">Experience heartburn or indigestion two or more times a week</DIV><DIV style="FONT-FAMILY: Arial">Find that antacids only provide temporary relief</DIV><DIV style="FONT-FAMILY: Arial">Are taking prescription medication to treat heartburn but are still experiencing symptoms</DIV><DIV style="FONT-FAMILY: Arial">&nbsp\;</DIV><DIV style="FONT-FAMILY: Arial">Call 1.800.4BAYLOR and Register Today or <A dataFld=0:0 href="http://www.baylorhealth.com/SpecialtiesServices/DigestiveHealth/Pages/BeattheBurn.aspx?cmpid=r_BeattheBurn">Register Online</A>!</DIV>
LOCATION:Baylor Medical Center at Garland
UID:e.2096.1120
SEQUENCE:3
DTSTAMP:20260421T145045Z
URL:https://network.garlandchamber.com/events/details/beat-the-burn-acid-reflux-gerd-seminar-01-15-2013-1120
END:VEVENT

END:VCALENDAR
