BEGIN:VCALENDAR
VERSION:2.0
PRODID:-//ChamberMaster//Event Calendar 2.0//EN
METHOD:PUBLISH
X-PUBLISHED-TTL:P3D
REFRESH-INTERVAL:P3D
CALSCALE:GREGORIAN
BEGIN:VEVENT
DTSTART:20100423T180000Z
DTEND:20100423T220000Z
X-MICROSOFT-CDO-ALLDAYEVENT:FALSE
SUMMARY:BEST Education Foundation Golf Tournament
DESCRIPTION:
X-ALT-DESC;FMTTYPE=text/html:
LOCATION:Firewheel Golf Park
UID:e.2096.779
SEQUENCE:3
DTSTAMP:20260423T121220Z
URL:https://network.garlandchamber.com/events/details/best-education-foundation-golf-tournament-04-23-2010-779
END:VEVENT

END:VCALENDAR
