BEGIN:VCALENDAR
VERSION:2.0
PRODID:-//ChamberMaster//Event Calendar 2.0//EN
METHOD:PUBLISH
X-PUBLISHED-TTL:P3D
REFRESH-INTERVAL:P3D
CALSCALE:GREGORIAN
BEGIN:VEVENT
DTSTART:20110429T050000Z
DTEND:20110429T050000Z
X-MICROSOFT-CDO-ALLDAYEVENT:FALSE
SUMMARY:BEST EDUCATION FOUNDATION GOLF TOURNAMENT
DESCRIPTION:BEST EDUCATION FOUNDATION GOLF TOURNAMENT
X-ALT-DESC;FMTTYPE=text/html:BEST EDUCATION FOUNDATION GOLF TOURNAMENT
LOCATION:Firewheel Golf Course
UID:e.2096.2274
SEQUENCE:3
DTSTAMP:20260422T192740Z
URL:https://network.garlandchamber.com/events/details/best-education-foundation-golf-tournament-04-29-2011-2274
END:VEVENT

END:VCALENDAR
