BEGIN:VCALENDAR
VERSION:2.0
PRODID:-//ChamberMaster//Event Calendar 2.0//EN
METHOD:PUBLISH
X-PUBLISHED-TTL:P3D
REFRESH-INTERVAL:P3D
CALSCALE:GREGORIAN
BEGIN:VEVENT
DTSTART:20091108T050000Z
DTEND:20091107T060000Z
X-MICROSOFT-CDO-ALLDAYEVENT:FALSE
SUMMARY:Bestway Rent to Own Ribbon Cutting Ceremony
DESCRIPTION:
X-ALT-DESC;FMTTYPE=text/html:
LOCATION:Bestway Rent to Own
UID:e.2096.725
SEQUENCE:3
DTSTAMP:20260423T193352Z
URL:https://network.garlandchamber.com/events/details/bestway-rent-to-own-ribbon-cutting-ceremony-11-07-2009-725
END:VEVENT

END:VCALENDAR
