BEGIN:VCALENDAR
VERSION:2.0
PRODID:-//ChamberMaster//Event Calendar 2.0//EN
METHOD:PUBLISH
X-PUBLISHED-TTL:P3D
REFRESH-INTERVAL:P3D
CALSCALE:GREGORIAN
BEGIN:VEVENT
DTSTART:20110611T130000Z
DTEND:20110612T043000Z
X-MICROSOFT-CDO-ALLDAYEVENT:FALSE
SUMMARY:Better Man\, Better You
DESCRIPTION:
X-ALT-DESC;FMTTYPE=text/html:
LOCATION:Hyatt Place Dallas/ Garland
UID:e.2096.930
SEQUENCE:3
DTSTAMP:20260422T162705Z
URL:https://network.garlandchamber.com/events/details/better-man-better-you-06-11-2011-930
END:VEVENT

END:VCALENDAR
