BEGIN:VCALENDAR
VERSION:2.0
PRODID:-//ChamberMaster//Event Calendar 2.0//EN
METHOD:PUBLISH
X-PUBLISHED-TTL:P3D
REFRESH-INTERVAL:P3D
CALSCALE:GREGORIAN
BEGIN:VEVENT
DTSTART:20120911T233000Z
DTEND:20120912T003000Z
X-MICROSOFT-CDO-ALLDAYEVENT:FALSE
SUMMARY:Bio-Identical Hormone Restoration: Free Seminar
DESCRIPTION:Whole Health Chiropractic invites you to attend a FREE seminar to learn more about how you can restore your natural hormone balance safely and protect your heart\, bones and brain from damaging effects of imbalance. RSVP to frontdesk@wholehealth-care.com or (972) 530-2273. See Flyer for Details
X-ALT-DESC;FMTTYPE=text/html:<DIV style="FONT-FAMILY: Arial">Whole Health Chiropractic invites you to attend a FREE seminar to learn more about how you can restore your natural hormone balance safely and protect your heart\, bones and brain from damaging effects of imbalance.</DIV><DIV style="FONT-FAMILY: Arial">&nbsp\;</DIV><DIV style="FONT-FAMILY: Arial">RSVP to <A href="mailto:frontdesk@wholehealth-care.com">frontdesk@wholehealth-care.com</A> or (972) 530-2273.</DIV><DIV style="FONT-FAMILY: Arial">&nbsp\;</DIV><DIV style="FONT-FAMILY: Arial"><A dataFld=0:0 href="http://www.garlandchamber.com/images/stories/chamber/Member%20Promotions/HHWC%20GAR%20Seminar%20September%202012.pdf">See Flyer for Details</A></DIV>
LOCATION:Whole Health Chiropractic
UID:e.2096.1086
SEQUENCE:3
DTSTAMP:20260421T204608Z
URL:https://network.garlandchamber.com/events/details/bio-identical-hormone-restoration-free-seminar-09-11-2012-1086
END:VEVENT

END:VCALENDAR
