BEGIN:VCALENDAR
VERSION:2.0
PRODID:-//ChamberMaster//Event Calendar 2.0//EN
METHOD:PUBLISH
X-PUBLISHED-TTL:P3D
REFRESH-INTERVAL:P3D
CALSCALE:GREGORIAN
BEGIN:VEVENT
DTSTART:20120622T150000Z
DTEND:20120622T190000Z
X-MICROSOFT-CDO-ALLDAYEVENT:FALSE
SUMMARY:Blood Drive with Carter BloodCare and Advanced Health & Rehab Center of Garland
DESCRIPTION:The Advanced Health & Rehab Center of Garland will partner with Carter BloodCare for a community blood drive on Friday\, June 22 from 10 a.m. to 2 p.m. To donate\, please call (972) 287-3566 or stop by. Refreshments will be provided by Agape Home Healthcare. See the Event Flyer
X-ALT-DESC;FMTTYPE=text/html:<DIV style="FONT-FAMILY: Arial">The Advanced Health &amp\; Rehab Center of Garland will partner with Carter BloodCare for a community blood drive on Friday\, June 22 from 10 a.m. to 2 p.m.</DIV><DIV style="FONT-FAMILY: Arial">&nbsp\;</DIV><DIV style="FONT-FAMILY: Arial">To donate\, please call (972) 287-3566 or stop by. Refreshments will be provided by Agape Home Healthcare.</DIV><DIV style="FONT-FAMILY: Arial">&nbsp\;</DIV><DIV style="FONT-FAMILY: Arial"><A style="COLOR: blue\; TEXT-DECORATION: underline" title="" dataFld=0:0 href="http://www.garlandchamber.com/images/stories/chamber/advhealth%20blood%20drive.pdf" target=_self><FONT color=#408080>See the Event Flyer</FONT></A></DIV>
LOCATION:Advanced Health & Rehab Center of Garland
UID:e.2096.1043
SEQUENCE:3
DTSTAMP:20260421T234029Z
URL:https://network.garlandchamber.com/events/details/blood-drive-with-carter-bloodcare-and-advanced-health-rehab-center-of-garland-06-22-2012-1043
END:VEVENT

END:VCALENDAR
