BEGIN:VCALENDAR
VERSION:2.0
PRODID:-//ChamberMaster//Event Calendar 2.0//EN
METHOD:PUBLISH
X-PUBLISHED-TTL:P3D
REFRESH-INTERVAL:P3D
CALSCALE:GREGORIAN
BEGIN:VEVENT
DTSTART;VALUE=DATE:20070226
DTEND;VALUE=DATE:20070401
TRANSP:TRANSPARENT
X-MICROSOFT-CDO-ALLDAYEVENT:TRUE
SUMMARY:Body Bucks
DESCRIPTION:We are offerring a free consult and a free 30 minute Hydro therapy massage for all new patients...our "Body Bucks" will give all employees 50.00 toward treatment at our clinic...maybe be used toward deductibles...Please call Edward for more information.
X-ALT-DESC;FMTTYPE=text/html:We are offerring a free consult and a free 30 minute Hydro therapy massage for all new patients...our "Body Bucks" will give all employees 50.00 toward treatment at our clinic...maybe be used toward deductibles...Please call Edward for more information.
LOCATION:Garland/Richardson Injury Rehab
UID:e.2096.31
SEQUENCE:3
DTSTAMP:20260425T162436Z
URL:https://network.garlandchamber.com/events/details/body-bucks-02-26-2007-31
END:VEVENT

END:VCALENDAR
