BEGIN:VCALENDAR
VERSION:2.0
PRODID:-//ChamberMaster//Event Calendar 2.0//EN
METHOD:PUBLISH
X-PUBLISHED-TTL:P3D
REFRESH-INTERVAL:P3D
CALSCALE:GREGORIAN
BEGIN:VEVENT
DTSTART:20210622T130000Z
DTEND:20210622T140000Z
X-MICROSOFT-CDO-ALLDAYEVENT:FALSE
SUMMARY:BOLD Speaker Series 2.0 - June 2021
DESCRIPTION:The goal of this program is to contribute to the continuing education of small business owners in partnership with Texas Security Bank. Events will include topics focusing on the core business disciplines at each stage of business.
X-ALT-DESC;FMTTYPE=text/html:The goal of this program is to contribute to the continuing education of small business owners in partnership with Texas Security Bank. Events will include topics focusing on the core business disciplines at each stage of business.
LOCATION:Zoom Video Communications
UID:e.2096.3644
SEQUENCE:3
DTSTAMP:20260423T215158Z
URL:https://network.garlandchamber.com/events/details/bold-speaker-series-2-0-june-2021-3644
END:VEVENT

END:VCALENDAR
