BEGIN:VCALENDAR
VERSION:2.0
PRODID:-//ChamberMaster//Event Calendar 2.0//EN
METHOD:PUBLISH
X-PUBLISHED-TTL:P3D
REFRESH-INTERVAL:P3D
CALSCALE:GREGORIAN
BEGIN:VEVENT
DTSTART:20120822T223000Z
DTEND:20120823T003000Z
X-MICROSOFT-CDO-ALLDAYEVENT:FALSE
SUMMARY:Brand Building Networking Event
DESCRIPTION:Join Stephanie Johnson\, CEO of Bed Rest Concierge as she hosts an evening of networking focused onbuilding your brand. This Power Networking Event in a social atmosphere provides Business Owners\, Mompreneurs and Entrepreneurs the opportunity to promote their brand\, while building community connections. \n\nFeatured Speaker Celebrity Chef Tiffany Derry will share her journey from Reality TV Fameto successful Restaurant Owner.\n\nAppetizers prepared and selected by Chef Tiffany Derry will be provided.\n\nBringing business owners from the suburbs and Dallas together for an exceptional evening.\n\nTickets are $25\, for this exclusive event\, get yours today! \n\nAll proceeds are donated to Diaper Drive To Change\, supporting the babies and toddlers of North Texas.
X-ALT-DESC;FMTTYPE=text/html:	 Join Stephanie Johnson\, CEO of Bed Rest Concierge as she hosts an evening of networking focused onbuilding your brand. This Power Networking Event in a social atmosphere provides Business Owners\, Mompreneurs and Entrepreneurs the opportunity to promote their brand\, while building community connections. \n\nFeatured Speaker Celebrity Chef Tiffany Derry will share her journey from Reality TV Fameto successful Restaurant Owner.\n\nAppetizers prepared and selected by Chef Tiffany Derry will be provided.\n\nBringing business owners from the suburbs and Dallas together for an exceptional evening.\n\nTickets are $25\, for this exclusive event\, get yours today! \n\nAll proceeds are donated to Diaper Drive To Change\, supporting the babies and toddlers of North Texas.
LOCATION:Private Social
UID:e.2096.6
SEQUENCE:3
DTSTAMP:20260421T204306Z
URL:https://network.garlandchamber.com/events/details/brand-building-networking-event-08-22-2012-6
END:VEVENT

END:VCALENDAR
