BEGIN:VCALENDAR
VERSION:2.0
PRODID:-//ChamberMaster//Event Calendar 2.0//EN
METHOD:PUBLISH
X-PUBLISHED-TTL:P3D
REFRESH-INTERVAL:P3D
CALSCALE:GREGORIAN
BEGIN:VEVENT
DTSTART:20130608T130000Z
DTEND:20130608T220000Z
X-MICROSOFT-CDO-ALLDAYEVENT:FALSE
SUMMARY:Brand It Blue Day
DESCRIPTION:
X-ALT-DESC;FMTTYPE=text/html:
LOCATION:Express Employment Professionals
UID:e.2096.1193
SEQUENCE:3
DTSTAMP:20260421T061736Z
URL:https://network.garlandchamber.com/events/details/brand-it-blue-day-06-08-2013-1193
END:VEVENT

END:VCALENDAR
