BEGIN:VCALENDAR
VERSION:2.0
PRODID:-//ChamberMaster//Event Calendar 2.0//EN
METHOD:PUBLISH
X-PUBLISHED-TTL:P3D
REFRESH-INTERVAL:P3D
CALSCALE:GREGORIAN
BEGIN:VEVENT
DTSTART:20070302T203000Z
DTEND:20070302T213000Z
X-MICROSOFT-CDO-ALLDAYEVENT:FALSE
SUMMARY:Bridgeview Estates Groundbreaking & Reception
DESCRIPTION:
X-ALT-DESC;FMTTYPE=text/html:
LOCATION:Christian Care Centers
UID:e.2096.369
SEQUENCE:3
DTSTAMP:20260425T162917Z
URL:https://network.garlandchamber.com/events/details/bridgeview-estates-groundbreaking-reception-03-02-2007-369
END:VEVENT

END:VCALENDAR
