BEGIN:VCALENDAR
VERSION:2.0
PRODID:-//ChamberMaster//Event Calendar 2.0//EN
METHOD:PUBLISH
X-PUBLISHED-TTL:P3D
REFRESH-INTERVAL:P3D
CALSCALE:GREGORIAN
BEGIN:VEVENT
DTSTART:20121019T170000Z
DTEND:20121019T190000Z
X-MICROSOFT-CDO-ALLDAYEVENT:FALSE
SUMMARY:Browning Trophies & Awards' 50th Anniversary Celebration
DESCRIPTION:The Garland Chamber of Commerce congratulates Browning Trophies & Awards on their milestone of 50 years in business in Garland\, Texas. Join our staff and Board of Directors as we help them celebrate this achievement. Browning Trophies & Awards is proud to announce their 50th Anniversary. They would like to thank you for making it possible and hope the relationship will continue for many years to come. Please come and help celebrate their anniversary with lunch (hotdogs & hamburgers) on Friday.
X-ALT-DESC;FMTTYPE=text/html:<DIV style="FONT-FAMILY: Arial">The Garland Chamber of Commerce congratulates Browning Trophies &amp\; Awards on their milestone of 50 years in business in Garland\, Texas. Join our staff and Board of Directors as we help them celebrate this achievement.</DIV><DIV style="FONT-FAMILY: Arial">&nbsp\;</DIV><DIV style="FONT-FAMILY: Arial">Browning Trophies &amp\; Awards is proud to announce their 50th Anniversary. They would like to thank you for making it possible and hope the relationship will continue for many years to come.</DIV><DIV style="FONT-FAMILY: Arial">&nbsp\;</DIV><DIV style="FONT-FAMILY: Arial">Please come and help celebrate their anniversary with lunch (hotdogs &amp\; hamburgers) on Friday.</DIV>
LOCATION:Browning's Trophies
UID:e.2096.1100
SEQUENCE:3
DTSTAMP:20260421T175824Z
URL:https://network.garlandchamber.com/events/details/browning-trophies-awards-50th-anniversary-celebration-10-19-2012-1100
END:VEVENT

END:VCALENDAR
