BEGIN:VCALENDAR
VERSION:2.0
PRODID:-//ChamberMaster//Event Calendar 2.0//EN
METHOD:PUBLISH
X-PUBLISHED-TTL:P3D
REFRESH-INTERVAL:P3D
CALSCALE:GREGORIAN
BEGIN:VEVENT
DTSTART:20081026T220000Z
DTEND:20081027T000000Z
X-MICROSOFT-CDO-ALLDAYEVENT:FALSE
SUMMARY:Buckingham U.M.C. Safe Alley Event
DESCRIPTION:
X-ALT-DESC;FMTTYPE=text/html:
LOCATION:Buckingham United Methodist Church
UID:e.2096.592
SEQUENCE:3
DTSTAMP:20260424T133117Z
URL:https://network.garlandchamber.com/events/details/buckingham-u-m-c-safe-alley-event-10-26-2008-592
END:VEVENT

END:VCALENDAR
