BEGIN:VCALENDAR
VERSION:2.0
PRODID:-//ChamberMaster//Event Calendar 2.0//EN
METHOD:PUBLISH
X-PUBLISHED-TTL:P3D
REFRESH-INTERVAL:P3D
CALSCALE:GREGORIAN
BEGIN:VEVENT
DTSTART:20081018T150000Z
DTEND:20081018T220000Z
X-MICROSOFT-CDO-ALLDAYEVENT:FALSE
SUMMARY:Buckingham United Methodist Fall Festival
DESCRIPTION:
X-ALT-DESC;FMTTYPE=text/html:
LOCATION:Buckingham United Methodist Church
UID:e.2096.452
SEQUENCE:3
DTSTAMP:20260424T132959Z
URL:https://network.garlandchamber.com/events/details/buckingham-united-methodist-fall-festival-10-18-2008-452
END:VEVENT

END:VCALENDAR
