BEGIN:VCALENDAR
VERSION:2.0
PRODID:-//ChamberMaster//Event Calendar 2.0//EN
METHOD:PUBLISH
X-PUBLISHED-TTL:P3D
REFRESH-INTERVAL:P3D
CALSCALE:GREGORIAN
BEGIN:VEVENT
DTSTART:20090323T160000Z
DTEND:20090323T050000Z
X-MICROSOFT-CDO-ALLDAYEVENT:FALSE
SUMMARY:Buffalo Wild Wings Ribbon Cutting Ceremony
DESCRIPTION:
X-ALT-DESC;FMTTYPE=text/html:
LOCATION:Buffalo Wild Wings
UID:e.2096.652
SEQUENCE:3
DTSTAMP:20260424T064049Z
URL:https://network.garlandchamber.com/events/details/buffalo-wild-wings-ribbon-cutting-ceremony-03-23-2009-652
END:VEVENT

END:VCALENDAR
