BEGIN:VCALENDAR
VERSION:2.0
PRODID:-//ChamberMaster//Event Calendar 2.0//EN
METHOD:PUBLISH
X-PUBLISHED-TTL:P3D
REFRESH-INTERVAL:P3D
CALSCALE:GREGORIAN
BEGIN:VEVENT
DTSTART:20110624T120000Z
DTEND:20110624T140000Z
X-MICROSOFT-CDO-ALLDAYEVENT:FALSE
SUMMARY:Business Building Roundtable Session 6
DESCRIPTION:
X-ALT-DESC;FMTTYPE=text/html:<DIV>&nbsp\;</DIV>
LOCATION:Garland Chamber Office
UID:e.2096.917
SEQUENCE:3
DTSTAMP:20260422T163201Z
URL:https://network.garlandchamber.com/events/details/business-building-roundtable-session-6-06-24-2011-917
END:VEVENT

END:VCALENDAR
