BEGIN:VCALENDAR
VERSION:2.0
PRODID:-//ChamberMaster//Event Calendar 2.0//EN
METHOD:PUBLISH
X-PUBLISHED-TTL:P3D
REFRESH-INTERVAL:P3D
CALSCALE:GREGORIAN
BEGIN:VEVENT
DTSTART:20110302T053000Z
DTEND:20110301T190000Z
X-MICROSOFT-CDO-ALLDAYEVENT:FALSE
SUMMARY:Business Building Tool Kit Series Session 4
DESCRIPTION:
X-ALT-DESC;FMTTYPE=text/html:<DIV>&nbsp\;</DIV>
LOCATION:Garland Chamber Office
UID:e.2096.876
SEQUENCE:3
DTSTAMP:20260422T221843Z
URL:https://network.garlandchamber.com/events/details/business-building-tool-kit-series-session-4-03-01-2011-876
END:VEVENT

END:VCALENDAR
