BEGIN:VCALENDAR
VERSION:2.0
PRODID:-//ChamberMaster//Event Calendar 2.0//EN
METHOD:PUBLISH
X-PUBLISHED-TTL:P3D
REFRESH-INTERVAL:P3D
CALSCALE:GREGORIAN
BEGIN:VEVENT
DTSTART:20100916T200000Z
DTEND:20100916T230000Z
X-MICROSOFT-CDO-ALLDAYEVENT:FALSE
SUMMARY:Business Expo & Reception
DESCRIPTION:
X-ALT-DESC;FMTTYPE=text/html:<DIV><SPAN style="FONT-SIZE: 11pt\; COLOR: black\; FONT-FAMILY: 'Tempus Sans ITC'"></SPAN>&nbsp\;<P><?xml:namespace prefix = u2 /><u2:p></u2:p></P></DIV>
LOCATION:American National Bank of Texas
UID:e.2096.831
SEQUENCE:3
DTSTAMP:20260423T052339Z
URL:https://network.garlandchamber.com/events/details/business-expo-reception-09-16-2010-831
END:VEVENT

END:VCALENDAR
