BEGIN:VCALENDAR
VERSION:2.0
PRODID:-//ChamberMaster//Event Calendar 2.0//EN
METHOD:PUBLISH
X-PUBLISHED-TTL:P3D
REFRESH-INTERVAL:P3D
CALSCALE:GREGORIAN
BEGIN:VEVENT
DTSTART:20090708T170000Z
DTEND:20090708T180000Z
X-MICROSOFT-CDO-ALLDAYEVENT:FALSE
SUMMARY:Business Skills - CANCELED
DESCRIPTION:Please note that this event has been canceled due to the lack of registrants. Hope to see you for next months event.
X-ALT-DESC;FMTTYPE=text/html:<P align=center><FONT style="BACKGROUND-COLOR: #ffffff" color=#ff0000 size=4>Please note that this event has been canceled due to the lack of registrants. </FONT></P><P align=center><FONT style="BACKGROUND-COLOR: #ffffff" color=#ff0000 size=4>Hope to see you for next months event.</FONT></P>
LOCATION:Garland Chamber of Commerce
UID:e.2096.681
SEQUENCE:3
DTSTAMP:20260424T011250Z
URL:https://network.garlandchamber.com/events/details/business-skills-canceled-07-08-2009-681
END:VEVENT

END:VCALENDAR
