BEGIN:VCALENDAR
VERSION:2.0
PRODID:-//ChamberMaster//Event Calendar 2.0//EN
METHOD:PUBLISH
X-PUBLISHED-TTL:P3D
REFRESH-INTERVAL:P3D
CALSCALE:GREGORIAN
BEGIN:VEVENT
DTSTART:20100210T180000Z
DTEND:20100210T190000Z
X-MICROSOFT-CDO-ALLDAYEVENT:FALSE
SUMMARY:Business Skills: CANCELLED
DESCRIPTION:Speaker: Bill Dunn\, CPA with Dunn & Dill CPA’s\, P.C.Topic: “2009 Tax Update: Are We Having Fun Yet?”     There have been a number of changes that have taken place over the last year…especially when it comes to your taxes. Bill will update you on all of the tax changes for your 2009 personal and business tax returns. He will also look into the crystal ball and see what is on the horizon for 2010 and after. Join us to have all of your 2009 business/ personal tax questions answered. This is also an opportunity for you to find out what you can do to better prepare yourself for your 2010 tax returns.
X-ALT-DESC;FMTTYPE=text/html:<DIV><?xml:namespace prefix = u2 /><u2:p><B style="mso-bidi-font-weight: normal"><SPAN style="FONT-SIZE: 14pt\; COLOR: #948a54\; FONT-FAMILY: 'Maiandra GD'\,'sans-serif'\; mso-bidi-font-family: Arial\; mso-themecolor: background2\; mso-themeshade: 128">Speaker:</SPAN></B><SPAN style="FONT-SIZE: 14pt\; COLOR: windowtext\; FONT-FAMILY: 'Maiandra GD'\,'sans-serif'\; mso-bidi-font-family: Arial"> Bill Dunn\, CPA with Dunn &amp\; Dill CPA’s\, P.C.<?xml:namespace prefix = o ns = "urn:schemas-microsoft-com:office:office" /><o:p></o:p></SPAN><P class=MsoNormal style="MARGIN: 0in 0in 0pt"><B style="mso-bidi-font-weight: normal"><SPAN style="FONT-SIZE: 14pt\; COLOR: #948a54\; FONT-FAMILY: 'Maiandra GD'\,'sans-serif'\; mso-bidi-font-family: Arial\; mso-themecolor: background2\; mso-themeshade: 128">Topic:</SPAN></B><SPAN style="FONT-SIZE: 14pt\; COLOR: windowtext\; FONT-FAMILY: 'Maiandra GD'\,'sans-serif'\; mso-bidi-font-family: Arial"> “2009 Tax Update: Are We Having Fun Yet?”&nbsp\;&nbsp\; <o:p></o:p></SPAN></P><P class=MsoNormal style="MARGIN: 0in 0in 0pt"><SPAN style="FONT-SIZE: 14pt\; COLOR: windowtext\; FONT-FAMILY: 'Maiandra GD'\,'sans-serif'\; mso-bidi-font-family: Arial"><o:p>&nbsp\;</o:p></SPAN></P><P class=MsoNormal style="MARGIN: 0in 0in 0pt"><SPAN style="FONT-SIZE: 14pt\; COLOR: windowtext\; FONT-FAMILY: 'Maiandra GD'\,'sans-serif'\; mso-bidi-font-family: Arial"><o:p>&nbsp\;</o:p></SPAN></P><P class=MsoNormal style="MARGIN: 0in 0in 0pt"><SPAN style="FONT-SIZE: 14pt\; COLOR: windowtext\; FONT-FAMILY: 'Maiandra GD'\,'sans-serif'\; mso-bidi-font-family: Arial">There have been a number of changes that have taken place over the last year…especially when it comes to your taxes. Bill will update you on all of the tax changes for your 2009 personal and business tax returns. He will also look into the crystal ball and see what is on the horizon for 2010 and after. Join us to have all of your 2009 business/ personal tax questions answered.&nbsp\;This is also an opportunity for you to find out what you can do to better prepare yourself for your 2010 tax returns.<o:p></o:p></SPAN></P><P></u2:p></P></DIV>
LOCATION:American National Bank of Texas
UID:e.2096.745
SEQUENCE:3
DTSTAMP:20260423T151100Z
URL:https://network.garlandchamber.com/events/details/business-skills-cancelled-02-10-2010-745
END:VEVENT

END:VCALENDAR
