BEGIN:VCALENDAR
VERSION:2.0
PRODID:-//ChamberMaster//Event Calendar 2.0//EN
METHOD:PUBLISH
X-PUBLISHED-TTL:P3D
REFRESH-INTERVAL:P3D
CALSCALE:GREGORIAN
BEGIN:VEVENT
DTSTART:20080409T170000Z
DTEND:20080409T180000Z
X-MICROSOFT-CDO-ALLDAYEVENT:FALSE
SUMMARY:Business Skills Lunch Workshop
DESCRIPTION:
X-ALT-DESC;FMTTYPE=text/html:
LOCATION:Garland Chamber of Commerce
UID:e.2096.513
SEQUENCE:3
DTSTAMP:20260424T225525Z
URL:https://network.garlandchamber.com/events/details/business-skills-lunch-workshop-04-09-2008-513
END:VEVENT

END:VCALENDAR
