BEGIN:VCALENDAR
VERSION:2.0
PRODID:-//ChamberMaster//Event Calendar 2.0//EN
METHOD:PUBLISH
X-PUBLISHED-TTL:P3D
REFRESH-INTERVAL:P3D
CALSCALE:GREGORIAN
BEGIN:VEVENT
DTSTART:20110713T190000Z
DTEND:20110713T200000Z
X-MICROSOFT-CDO-ALLDAYEVENT:FALSE
SUMMARY:Business Skills Webinar: Prospecting in Difficult Business Times
DESCRIPTION:
X-ALT-DESC;FMTTYPE=text/html:
LOCATION:Online: Your Home or Office
UID:e.2096.937
SEQUENCE:3
DTSTAMP:20260422T165215Z
URL:https://network.garlandchamber.com/events/details/business-skills-webinar-prospecting-in-difficult-business-times-07-13-2011-937
END:VEVENT

END:VCALENDAR
