BEGIN:VCALENDAR
VERSION:2.0
PRODID:-//ChamberMaster//Event Calendar 2.0//EN
METHOD:PUBLISH
X-PUBLISHED-TTL:P3D
REFRESH-INTERVAL:P3D
CALSCALE:GREGORIAN
BEGIN:VEVENT
DTSTART:20110511T190000Z
DTEND:20110511T200000Z
X-MICROSOFT-CDO-ALLDAYEVENT:FALSE
SUMMARY:Business Skills Webinar: Stand Out from the Crowd
DESCRIPTION:
X-ALT-DESC;FMTTYPE=text/html:
LOCATION:Online: Your Computer
UID:e.2096.919
SEQUENCE:3
DTSTAMP:20260422T180007Z
URL:https://network.garlandchamber.com/events/details/business-skills-webinar-stand-out-from-the-crowd-05-11-2011-919
END:VEVENT

END:VCALENDAR
