BEGIN:VCALENDAR
VERSION:2.0
PRODID:-//ChamberMaster//Event Calendar 2.0//EN
METHOD:PUBLISH
X-PUBLISHED-TTL:P3D
REFRESH-INTERVAL:P3D
CALSCALE:GREGORIAN
BEGIN:VEVENT
DTSTART:20080813T170000Z
DTEND:20080813T180000Z
X-MICROSOFT-CDO-ALLDAYEVENT:FALSE
SUMMARY:Business Skills Workshop
DESCRIPTION:
X-ALT-DESC;FMTTYPE=text/html:
LOCATION:Garland Chamber of Commerce
UID:e.2096.564
SEQUENCE:3
DTSTAMP:20260424T160613Z
URL:https://network.garlandchamber.com/events/details/business-skills-workshop-08-13-2008-564
END:VEVENT

END:VCALENDAR
