BEGIN:VCALENDAR
VERSION:2.0
PRODID:-//ChamberMaster//Event Calendar 2.0//EN
METHOD:PUBLISH
X-PUBLISHED-TTL:P3D
REFRESH-INTERVAL:P3D
CALSCALE:GREGORIAN
BEGIN:VEVENT
DTSTART:20100609T170000Z
DTEND:20100609T180000Z
X-MICROSOFT-CDO-ALLDAYEVENT:FALSE
SUMMARY:Business Skills Workshop CANCELED
DESCRIPTION:
X-ALT-DESC;FMTTYPE=text/html:<DIV>&nbsp\;</DIV>
LOCATION:Garland Chamber Office
UID:e.2096.800
SEQUENCE:3
DTSTAMP:20260423T104106Z
URL:https://network.garlandchamber.com/events/details/business-skills-workshop-canceled-06-09-2010-800
END:VEVENT

END:VCALENDAR
