BEGIN:VCALENDAR
VERSION:2.0
PRODID:-//ChamberMaster//Event Calendar 2.0//EN
METHOD:PUBLISH
X-PUBLISHED-TTL:P3D
REFRESH-INTERVAL:P3D
CALSCALE:GREGORIAN
BEGIN:VEVENT
DTSTART:20090909T170000Z
DTEND:20090909T180000Z
X-MICROSOFT-CDO-ALLDAYEVENT:FALSE
SUMMARY:Business Skills Workshop - Mayor's Roundtable
DESCRIPTION:
X-ALT-DESC;FMTTYPE=text/html:
LOCATION:Garland Chamber of Commerce
UID:e.2096.701
SEQUENCE:3
DTSTAMP:20260423T220809Z
URL:https://network.garlandchamber.com/events/details/business-skills-workshop-mayor-s-roundtable-09-09-2009-701
END:VEVENT

END:VCALENDAR
