BEGIN:VCALENDAR
VERSION:2.0
PRODID:-//ChamberMaster//Event Calendar 2.0//EN
METHOD:PUBLISH
X-PUBLISHED-TTL:P3D
REFRESH-INTERVAL:P3D
CALSCALE:GREGORIAN
BEGIN:VEVENT
DTSTART:20090610T170000Z
DTEND:20090610T180000Z
X-MICROSOFT-CDO-ALLDAYEVENT:FALSE
SUMMARY:Business Skills Workshop: Stay In Touch...Stay In Front
DESCRIPTION:
X-ALT-DESC;FMTTYPE=text/html:
LOCATION:Garland Chamber of Commerce
UID:e.2096.671
SEQUENCE:3
DTSTAMP:20260424T023334Z
URL:https://network.garlandchamber.com/events/details/business-skills-workshop-stay-in-touch-stay-in-front-06-10-2009-671
END:VEVENT

END:VCALENDAR
