BEGIN:VCALENDAR
VERSION:2.0
PRODID:-//ChamberMaster//Event Calendar 2.0//EN
METHOD:PUBLISH
X-PUBLISHED-TTL:P3D
REFRESH-INTERVAL:P3D
CALSCALE:GREGORIAN
BEGIN:VEVENT
DTSTART:20100520T170000Z
DTEND:20100520T230000Z
X-MICROSOFT-CDO-ALLDAYEVENT:FALSE
SUMMARY:Business to Business Expo
DESCRIPTION:
X-ALT-DESC;FMTTYPE=text/html:
LOCATION:Richland College Garland Campus
UID:e.2096.778
SEQUENCE:3
DTSTAMP:20260423T104856Z
URL:https://network.garlandchamber.com/events/details/business-to-business-expo-05-20-2010-778
END:VEVENT

END:VCALENDAR
