BEGIN:VCALENDAR
VERSION:2.0
PRODID:-//ChamberMaster//Event Calendar 2.0//EN
METHOD:PUBLISH
X-PUBLISHED-TTL:P3D
REFRESH-INTERVAL:P3D
CALSCALE:GREGORIAN
BEGIN:VEVENT
DTSTART:20070323T190000Z
DTEND:20070323T210000Z
X-MICROSOFT-CDO-ALLDAYEVENT:FALSE
SUMMARY:Buyer & Vendor Mixer
DESCRIPTION:
X-ALT-DESC;FMTTYPE=text/html:<DIV><FONT face="Bookman Old Style" color=#000080>&nbsp\;</FONT></DIV>
LOCATION:The Atrium
UID:e.2096.368
SEQUENCE:3
DTSTAMP:20260425T163558Z
URL:https://network.garlandchamber.com/events/details/buyer-vendor-mixer-03-23-2007-368
END:VEVENT

END:VCALENDAR
