BEGIN:VCALENDAR
VERSION:2.0
PRODID:-//ChamberMaster//Event Calendar 2.0//EN
METHOD:PUBLISH
X-PUBLISHED-TTL:P3D
REFRESH-INTERVAL:P3D
CALSCALE:GREGORIAN
BEGIN:VEVENT
DTSTART:20070609T230000Z
DTEND:20070610T020000Z
X-MICROSOFT-CDO-ALLDAYEVENT:FALSE
SUMMARY:CANCELED - Texas Land & Cattle VIP Event
DESCRIPTION:Please note that the Texas Land & Cattle VIP Event & Grand Opening celebration scheduled for Saturday June 9th from 6:00 to 9:00 p.m. has been CANCELED. This event will be rescheduled for a later date\, due to unforeseen circumstances. We will notify you on the new date once it has been determined.
X-ALT-DESC;FMTTYPE=text/html:<DIV><P class=MsoNormal style="MARGIN: 0in 0in 0pt"><FONT size=5><SPAN style="FONT-FAMILY: 'Arial Narrow'">Please note that the Texas Land &amp\; Cattle </SPAN><?xml:namespace prefix = st1 ns = "urn:schemas-microsoft-com:office:smarttags" /><st1:stockticker><SPAN style="FONT-FAMILY: 'Arial Narrow'">VIP</SPAN></st1:stockticker><SPAN style="FONT-FAMILY: 'Arial Narrow'"> Event &amp\; Grand Opening celebration scheduled for Saturday June 9th from </SPAN><st1:time Minute="0" Hour="18"><SPAN style="FONT-FAMILY: 'Arial Narrow'">6:00</SPAN></st1:time><SPAN style="FONT-FAMILY: 'Arial Narrow'"> to </SPAN><st1:time Minute="0" Hour="21"><SPAN style="FONT-FAMILY: 'Arial Narrow'">9:00 p.m.</SPAN></st1:time><SPAN style="FONT-FAMILY: 'Arial Narrow'"> has been CANCELED. This event will be rescheduled for a later date\, due to unforeseen circumstances. We will notify you on the new date once it has been determined.<?xml:namespace prefix = o ns = "urn:schemas-microsoft-com:office:office" /><o:p></o:p></SPAN></FONT></P></DIV>
LOCATION:
UID:e.2096.407
SEQUENCE:3
DTSTAMP:20260425T120432Z
URL:https://network.garlandchamber.com/events/details/canceled-texas-land-cattle-vip-event-06-09-2007-407
END:VEVENT

END:VCALENDAR
