BEGIN:VCALENDAR
VERSION:2.0
PRODID:-//ChamberMaster//Event Calendar 2.0//EN
METHOD:PUBLISH
X-PUBLISHED-TTL:P3D
REFRESH-INTERVAL:P3D
CALSCALE:GREGORIAN
BEGIN:VEVENT
DTSTART:20081208T203000Z
DTEND:20081208T060000Z
X-MICROSOFT-CDO-ALLDAYEVENT:FALSE
SUMMARY:Candlewood Suites Dallas Park Central Ribbon Cutting
DESCRIPTION:
X-ALT-DESC;FMTTYPE=text/html:
LOCATION:Candlewood Suites
UID:e.2096.602
SEQUENCE:3
DTSTAMP:20260424T121459Z
URL:https://network.garlandchamber.com/events/details/candlewood-suites-dallas-park-central-ribbon-cutting-12-08-2008-602
END:VEVENT

END:VCALENDAR
