BEGIN:VCALENDAR
VERSION:2.0
PRODID:-//ChamberMaster//Event Calendar 2.0//EN
METHOD:PUBLISH
X-PUBLISHED-TTL:P3D
REFRESH-INTERVAL:P3D
CALSCALE:GREGORIAN
BEGIN:VEVENT
DTSTART;VALUE=DATE:20070305
DTEND;VALUE=DATE:20070308
TRANSP:TRANSPARENT
X-MICROSOFT-CDO-ALLDAYEVENT:TRUE
SUMMARY:Career Week 2007
DESCRIPTION:Eastfield College will host its annual Career Week on March 5 – 8\, 2007. The following is a list ofevents.\n\nMonday\, March 5\, 10:10 – 11 a.m.\, Room C135\nOld School\, New School:  Talking About Our Generations\nPresenter:  Bill Atkinson\, Owner\, Express Personnel Plano \nDescription:  For the firsttime in history\, there are four generations\, ages 18 to 80\, working side-by-side in the workplace. This lighthearted yet thought-provoking seminar looks at the benefits and challenges of a mixed-generation workforce.\n \nTuesday\, March 6\, 11 a.m. – 12:15 p.m.\, Room C135\nMySpace is Public Space:  Mistakes Job Seekers Make\nPresenters: Ian Aberle\, SMU\; Jeri Tillman\, American Airlines Center\; TerriWyatt\, Drug Enforcement Administration and Charsie Williams\, UPS      \nDescription:  Social networking websites such as MySpace and Facebook can be like tattoos—they seemed like a good idea at the time but then you have to live with them forever!  This session describes the many ways these websitescan be used by employers and others.  Employers will discuss other ways job seekers make mistakes and what they can do to enhance their job searches.\n \nWednesday\, March 7\, 11:15 a.m. – 12 p.m.\, Room C135\nFrom Flip-Flops to Business Suits: Your Professional Image\nPresenter: Daryne DeZengotita\, Executive Unit Leader\, Avon \nDescription:  Employers say they size up job applicants within the first ten seconds.  What does your image communicate about you to employers?  This session shows you howto polish your professional image to make a positive and lasting impression.\nAll events are free and open to the public. For more information\, contact Eastfield College Career Center at 972-860-8310.\n\nThese events are Co-Sponsored by Career Services\, TRiO/Student Support Services\,  \nStudent Programs & Resources\, and the USDE Job Location & Development Program.
X-ALT-DESC;FMTTYPE=text/html:Eastfield College will host its annual Career Week on March 5 – 8\, 2007. The following is a list ofevents.\n\nMonday\, March 5\, 10:10 – 11 a.m.\, Room C135\nOld School\, New School:  Talking About Our Generations\nPresenter:  Bill Atkinson\, Owner\, Express Personnel Plano \nDescription:  For the firsttime in history\, there are four generations\, ages 18 to 80\, working side-by-side in the workplace. This lighthearted yet thought-provoking seminar looks at the benefits and challenges of a mixed-generation workforce.\n \nTuesday\, March 6\, 11 a.m. – 12:15 p.m.\, Room C135\nMySpace is Public Space:  Mistakes Job Seekers Make\nPresenters: Ian Aberle\, SMU\; Jeri Tillman\, American Airlines Center\; TerriWyatt\, Drug Enforcement Administration and Charsie Williams\, UPS      \nDescription:  Social networking websites such as MySpace and Facebook can be like tattoos—they seemed like a good idea at the time but then you have to live with them forever!  This session describes the many ways these websitescan be used by employers and others.  Employers will discuss other ways job seekers make mistakes and what they can do to enhance their job searches.\n \nWednesday\, March 7\, 11:15 a.m. – 12 p.m.\, Room C135\nFrom Flip-Flops to Business Suits: Your Professional Image\nPresenter: Daryne DeZengotita\, Executive Unit Leader\, Avon \nDescription:  Employers say they size up job applicants within the first ten seconds.  What does your image communicate about you to employers?  This session shows you howto polish your professional image to make a positive and lasting impression.\nAll events are free and open to the public. For more information\, contact Eastfield College Career Center at 972-860-8310.\n\nThese events are Co-Sponsored by Career Services\, TRiO/Student Support Services\,  \nStudent Programs & Resources\, and the USDE Job Location & Development Program.
LOCATION:Eastfield College
UID:e.2096.27
SEQUENCE:3
DTSTAMP:20260425T163410Z
URL:https://network.garlandchamber.com/events/details/career-week-2007-03-05-2007-27
END:VEVENT

END:VCALENDAR
