BEGIN:VCALENDAR
VERSION:2.0
PRODID:-//ChamberMaster//Event Calendar 2.0//EN
METHOD:PUBLISH
X-PUBLISHED-TTL:P3D
REFRESH-INTERVAL:P3D
CALSCALE:GREGORIAN
BEGIN:VEVENT
DTSTART:20100302T133000Z
DTEND:20100302T230000Z
X-MICROSOFT-CDO-ALLDAYEVENT:FALSE
SUMMARY:Celebration for TX Independence Day at Montclair
DESCRIPTION:RSVP by Wednesday\, December 2nd
X-ALT-DESC;FMTTYPE=text/html:<DIV>RSVP by Wednesday\, December 2nd</DIV>
LOCATION:Montclair Estates
UID:e.2096.543
SEQUENCE:3
DTSTAMP:20260423T134120Z
URL:https://network.garlandchamber.com/events/details/celebration-for-tx-independence-day-at-montclair-03-02-2010-543
END:VEVENT

END:VCALENDAR
