BEGIN:VCALENDAR
VERSION:2.0
PRODID:-//ChamberMaster//Event Calendar 2.0//EN
METHOD:PUBLISH
X-PUBLISHED-TTL:P3D
REFRESH-INTERVAL:P3D
CALSCALE:GREGORIAN
BEGIN:VEVENT
DTSTART:20110908T150000Z
DTEND:20110908T210000Z
X-MICROSOFT-CDO-ALLDAYEVENT:FALSE
SUMMARY:Central Library Renovation Open House
DESCRIPTION:Habitat for Humanity of Greater Garland is teaming up with Buffalo Wild Wingsfor a fundraiser. On May 8th\, Buffalo Wild wings will donate 10% of sales back to HFHGG from customers presenting the ticket below.This is an all day event. Eat Wings...Raise Funds.
X-ALT-DESC;FMTTYPE=text/html:<P style="MARGIN: 0in 0in 0pt" class=yiv1065244205msonormal><FONT size=3>Habitat for Humanity of Greater&nbsp\;Garland&nbsp\;is teaming up with Buffalo Wild Wings</FONT></P><P style="MARGIN: 0in 0in 0pt" class=yiv1065244205msonormal><FONT size=3>for a </FONT><FONT size=3>fundraiser. On May 8th\, Buffalo Wild wings will donate 10% of sales&nbsp\;</FONT></P><P style="MARGIN: 0in 0in 0pt" class=yiv1065244205msonormal><FONT size=3>back to HFHGG </FONT><FONT size=3>from customers presenting the ticket below.This is an all </FONT></P><P style="MARGIN: 0in 0in 0pt" class=yiv1065244205msonormal><FONT size=3>day event. Eat Wings...Raise Funds. </FONT></P>
LOCATION:Central Library
UID:e.2096.798
SEQUENCE:3
DTSTAMP:20260422T121830Z
URL:https://network.garlandchamber.com/events/details/central-library-renovation-open-house-09-08-2011-798
END:VEVENT

END:VCALENDAR
