BEGIN:VCALENDAR
VERSION:2.0
PRODID:-//ChamberMaster//Event Calendar 2.0//EN
METHOD:PUBLISH
X-PUBLISHED-TTL:P3D
REFRESH-INTERVAL:P3D
CALSCALE:GREGORIAN
BEGIN:VEVENT
DTSTART:20130510T130000Z
DTEND:20130510T203000Z
X-MICROSOFT-CDO-ALLDAYEVENT:FALSE
SUMMARY:Chick-fil-A Leadercast
DESCRIPTION:Chick-fil-A Leadercast is a one-day leadership event broadcast LIVE from Atlanta\, GA to hundreds of locations around the world. Do you want to have a breakthrough in growing as a leader? Pause\, take a step back\, and make plans to take several steps forward at Chick-fil-A Leadercast 2013. Register to Attend
X-ALT-DESC;FMTTYPE=text/html:<DIV style="FONT-FAMILY: Arial">Chick-fil-A Leadercast is a one-day leadership event broadcast LIVE from Atlanta\, GA to hundreds of locations around the world.</DIV><DIV style="FONT-FAMILY: Arial">&nbsp\;</DIV><DIV style="FONT-FAMILY: Arial">Do you want to have a breakthrough in growing as a leader? Pause\, take a step back\, and make plans to take several steps forward at Chick-fil-A Leadercast 2013.</DIV><DIV style="FONT-FAMILY: Arial">&nbsp\;</DIV><DIV style="FONT-FAMILY: Arial"><A dataFld=0:0 href="http://www.chick-fil-aleadercast.com/location/northsidegarland">Register to Attend</A></DIV>
LOCATION:Northside Baptist Church
UID:e.2096.1166
SEQUENCE:3
DTSTAMP:20260421T073705Z
URL:https://network.garlandchamber.com/events/details/chick-fil-a-leadercast-05-10-2013-1166
END:VEVENT

END:VCALENDAR
