BEGIN:VCALENDAR
VERSION:2.0
PRODID:-//ChamberMaster//Event Calendar 2.0//EN
METHOD:PUBLISH
X-PUBLISHED-TTL:P3D
REFRESH-INTERVAL:P3D
CALSCALE:GREGORIAN
BEGIN:VEVENT
DTSTART:20121206T233000Z
DTEND:20121207T033000Z
X-MICROSOFT-CDO-ALLDAYEVENT:FALSE
SUMMARY:Christmas on the Square
DESCRIPTION:The City of Garland's annual Christmas on the Square will take place on Thursday\, Dec. 6\, from 5:30 to 9:30 p.m. in the historic downtown square. This year's celebration will feature two snow hills\, holiday arts and crafts\, photos with Santa\, horse-drawn carriage rides\, an ice sculpture demonstration and children's activities. Garland churches\, school choirs and community organizations enjoy partnering each year and Garland residents look forward to this free family event. See the Event Flyer or visit www.christmasonthesquare.com for more information
X-ALT-DESC;FMTTYPE=text/html:<DIV style="FONT-FAMILY: Arial">The City of Garland's annual Christmas on the Square will take place on Thursday\, Dec. 6\, from 5:30 to 9:30 p.m. in the historic downtown square. This year's celebration will feature two snow hills\, holiday arts and crafts\, photos with Santa\, horse-drawn carriage rides\, an ice sculpture demonstration and children's activities. Garland churches\, school choirs and community organizations enjoy partnering each year and Garland residents look forward to this free family event.</DIV><DIV style="FONT-FAMILY: Arial">&nbsp\;</DIV><DIV style="FONT-FAMILY: Arial">See the <A dataFld=0:0 href="http://www.garlandchamber.com/images/stories/chamber/Member%20Promotions/2012%20COTS%20Half%20Page%20Flyer.pdf">Event Flyer</A> or visit <A href="http://www.christmasonthesquare.com">www.christmasonthesquare.com</A> for more information</DIV>
LOCATION:Downtown Garland on the Square
UID:e.2096.1113
SEQUENCE:3
DTSTAMP:20260421T150039Z
URL:https://network.garlandchamber.com/events/details/christmas-on-the-square-12-06-2012-1113
END:VEVENT

END:VCALENDAR
