BEGIN:VCALENDAR
VERSION:2.0
PRODID:-//ChamberMaster//Event Calendar 2.0//EN
METHOD:PUBLISH
X-PUBLISHED-TTL:P3D
REFRESH-INTERVAL:P3D
CALSCALE:GREGORIAN
BEGIN:VEVENT
DTSTART:20121214T060000Z
DTEND:20121214T060000Z
X-MICROSOFT-CDO-ALLDAYEVENT:FALSE
SUMMARY:Christmas Open House at Winters Park
DESCRIPTION:Featuring a Toys for Tots drop-off location\, designer-decorated Memory Care room for lease\, appetizers and food stations. Additional Information
X-ALT-DESC;FMTTYPE=text/html:<DIV style="FONT-FAMILY: Arial">Featuring a Toys for Tots drop-off location\, designer-decorated Memory Care room for lease\, appetizers and food stations.</DIV><DIV style="FONT-FAMILY: Arial">&nbsp\;</DIV><DIV style="FONT-FAMILY: Arial"><A dataFld=0:0 href="http://www.garlandchamber.com/images/stories/chamber/Member%20Promotions/Winters%20Park%20open%20house%201212.pdf">Additional Information</A></DIV>
LOCATION:Winters Park Assisted Living and Memory Care
UID:e.2096.1112
SEQUENCE:3
DTSTAMP:20260421T150138Z
URL:https://network.garlandchamber.com/events/details/christmas-open-house-at-winters-park-12-14-2012-1112
END:VEVENT

END:VCALENDAR
