BEGIN:VCALENDAR
VERSION:2.0
PRODID:-//ChamberMaster//Event Calendar 2.0//EN
METHOD:PUBLISH
X-PUBLISHED-TTL:P3D
REFRESH-INTERVAL:P3D
CALSCALE:GREGORIAN
BEGIN:VEVENT
DTSTART:20070227T233000Z
DTEND:20070228T013000Z
X-MICROSOFT-CDO-ALLDAYEVENT:FALSE
SUMMARY:Citibank Grand Opening Celebration
DESCRIPTION:Cocktails and hors d'oeuvres will be served! RSVP to Brenda GarciaPhone: (972) 864-3541
X-ALT-DESC;FMTTYPE=text/html:<DIV align=center>Cocktails and hors d'oeuvres will be served!</DIV><DIV align=center>&nbsp\;</DIV><DIV align=center>RSVP to Brenda Garcia</DIV><DIV align=center>Phone: (972) 864-3541</DIV>
LOCATION:Citibank\, N.A.
UID:e.2096.365
SEQUENCE:3
DTSTAMP:20260425T193504Z
URL:https://network.garlandchamber.com/events/details/citibank-grand-opening-celebration-02-27-2007-365
END:VEVENT

END:VCALENDAR
