BEGIN:VCALENDAR
VERSION:2.0
PRODID:-//ChamberMaster//Event Calendar 2.0//EN
METHOD:PUBLISH
X-PUBLISHED-TTL:P3D
REFRESH-INTERVAL:P3D
CALSCALE:GREGORIAN
BEGIN:VEVENT
DTSTART:20090508T180000Z
DTEND:20090508T050000Z
X-MICROSOFT-CDO-ALLDAYEVENT:FALSE
SUMMARY:CJ Banks Grand Opening & Ribbon Cutting
DESCRIPTION:
X-ALT-DESC;FMTTYPE=text/html:
LOCATION:C.J. Banks
UID:e.2096.662
SEQUENCE:3
DTSTAMP:20260424T040255Z
URL:https://network.garlandchamber.com/events/details/cj-banks-grand-opening-ribbon-cutting-05-08-2009-662
END:VEVENT

END:VCALENDAR
