BEGIN:VCALENDAR
VERSION:2.0
PRODID:-//ChamberMaster//Event Calendar 2.0//EN
METHOD:PUBLISH
X-PUBLISHED-TTL:P3D
REFRESH-INTERVAL:P3D
CALSCALE:GREGORIAN
BEGIN:VEVENT
DTSTART:20100415T150000Z
DTEND:20100415T200000Z
X-MICROSOFT-CDO-ALLDAYEVENT:FALSE
SUMMARY:Come out to See the No. 12 Verizon Dodge
DESCRIPTION:
X-ALT-DESC;FMTTYPE=text/html:
LOCATION:Verizon Wireless
UID:e.2096.569
SEQUENCE:3
DTSTAMP:20260423T121440Z
URL:https://network.garlandchamber.com/events/details/come-out-to-see-the-no-12-verizon-dodge-04-15-2010-569
END:VEVENT

END:VCALENDAR
