BEGIN:VCALENDAR
VERSION:2.0
PRODID:-//ChamberMaster//Event Calendar 2.0//EN
METHOD:PUBLISH
X-PUBLISHED-TTL:P3D
REFRESH-INTERVAL:P3D
CALSCALE:GREGORIAN
BEGIN:VEVENT
DTSTART:20070303T160000Z
DTEND:20070303T080000Z
X-MICROSOFT-CDO-ALLDAYEVENT:FALSE
SUMMARY:Comerica Grand Opening Celebration
DESCRIPTION:
X-ALT-DESC;FMTTYPE=text/html:
LOCATION:Comerica Bank
UID:e.2096.366
SEQUENCE:3
DTSTAMP:20260425T162932Z
URL:https://network.garlandchamber.com/events/details/comerica-grand-opening-celebration-03-03-2007-366
END:VEVENT

END:VCALENDAR
