BEGIN:VCALENDAR
VERSION:2.0
PRODID:-//ChamberMaster//Event Calendar 2.0//EN
METHOD:PUBLISH
X-PUBLISHED-TTL:P3D
REFRESH-INTERVAL:P3D
CALSCALE:GREGORIAN
BEGIN:VEVENT
DTSTART:20080304T140000Z
DTEND:20080304T060000Z
X-MICROSOFT-CDO-ALLDAYEVENT:FALSE
SUMMARY:Community Forum & Networking Breakfast
DESCRIPTION:
X-ALT-DESC;FMTTYPE=text/html:
LOCATION:Capital One Bank
UID:e.2096.510
SEQUENCE:3
DTSTAMP:20260424T225350Z
URL:https://network.garlandchamber.com/events/details/community-forum-networking-breakfast-03-04-2008-510
END:VEVENT

END:VCALENDAR
