BEGIN:VCALENDAR
VERSION:2.0
PRODID:-//ChamberMaster//Event Calendar 2.0//EN
METHOD:PUBLISH
X-PUBLISHED-TTL:P3D
REFRESH-INTERVAL:P3D
CALSCALE:GREGORIAN
BEGIN:VEVENT
DTSTART:20110218T060000Z
DTEND:20110218T060000Z
X-MICROSOFT-CDO-ALLDAYEVENT:FALSE
SUMMARY:Community Leadership 4.0: Impacting a World Gone Wiki Pre-Orders
DESCRIPTION:Community Leadership 4.0: Impacting a World Gone Wiki Pre-Orders
X-ALT-DESC;FMTTYPE=text/html:Community Leadership 4.0: Impacting a World Gone Wiki Pre-Orders
LOCATION:
UID:e.2096.2273
SEQUENCE:3
DTSTAMP:20260422T222500Z
URL:https://network.garlandchamber.com/events/details/community-leadership-4-0-impacting-a-world-gone-wiki-pre-orders-02-18-2011-2273
END:VEVENT

END:VCALENDAR
